BEGIN:VCALENDAR
PRODID:-//Microsoft Corporation//Outlook 14.0 MIMEDIR//EN
VERSION:2.0
METHOD:PUBLISH
BEGIN:VEVENT
UID:127e8ddd0b1573cee9a6951014f7d34awww.sgno.ca
DTSTAMP:20260420T011442Z
DTSTART:2026-04-22T13:00:0000Z
DTEND:2026-04-22T14:30:0000Z
SUMMARY:Les recensements de la Nouvelle-France, de l’Acadie et du Canada
LOCATION:8627 91 ST NW
DESCRIPTION:La prochaine rencontre des Échanges entre généalogistes, en français et en format hybride (en présentiel au centre de la SGNO et en mode Zoom), aura lieu le mercredi 22 avril 2026 à 13 h. Lors de cette rencontre, Jean-Yves Vanier-Verbeek, président de la SGNO, animera une présentation sur les recensements de la Nouvelle-France, de l’Acadie et du Canada, des outils les plus précieux en généalogie canadienne-française . Il expliquera comment retrouver les recensements en ligne, quelles informations on y trouve, comment ils aident à suivre les familles dans le temps et comment évaluer leur fiabilité.
END:VEVENT
END:VCALENDAR